BEGIN:VCALENDAR
VERSION:2.0
PRODID:-//Ecole de Parapente à La Réunion - ECPv6.10.0//NONSGML v1.0//EN
CALSCALE:GREGORIAN
METHOD:PUBLISH
X-WR-CALNAME:Ecole de Parapente à La Réunion
X-ORIGINAL-URL:https://www.ecole-bourbon-parapente.com
X-WR-CALDESC:Évènements pour Ecole de Parapente à La Réunion
REFRESH-INTERVAL;VALUE=DURATION:PT1H
X-Robots-Tag:noindex
X-PUBLISHED-TTL:PT1H
BEGIN:VTIMEZONE
TZID:Indian/Reunion
BEGIN:STANDARD
TZOFFSETFROM:+0400
TZOFFSETTO:+0400
TZNAME:+04
DTSTART:20250101T000000
END:STANDARD
END:VTIMEZONE
BEGIN:VEVENT
DTSTART;TZID=Indian/Reunion:20250530T080000
DTEND;TZID=Indian/Reunion:20250530T170000
DTSTAMP:20260421T135754
CREATED:20250511T174252Z
LAST-MODIFIED:20250511T174252Z
UID:10000055-1748592000-1748624400@www.ecole-bourbon-parapente.com
SUMMARY:PROGRESSION
DESCRIPTION:
URL:https://www.ecole-bourbon-parapente.com/stage/progression-24/
LOCATION:Colimaçons\, Aire de décollage des parapentes\, Saint-Leu 97436\, La Réunion\, Saint-Leu\, 97436\, Reunion
CATEGORIES:Progression
END:VEVENT
BEGIN:VEVENT
DTSTART;VALUE=DATE:20250529
DTEND;VALUE=DATE:20250530
DTSTAMP:20260421T135754
CREATED:20250511T163758Z
LAST-MODIFIED:20250511T173419Z
UID:10000045-1748476800-1748563199@www.ecole-bourbon-parapente.com
SUMMARY:journée perfectionnement
DESCRIPTION:
URL:https://www.ecole-bourbon-parapente.com/stage/journee-perfectionnement-3/
LOCATION:Colimaçons\, Aire de décollage des parapentes\, Saint-Leu 97436\, La Réunion\, Saint-Leu\, 97436\, Reunion
CATEGORIES:Perfectionnement
END:VEVENT
BEGIN:VEVENT
DTSTART;TZID=Indian/Reunion:20250526T080000
DTEND;TZID=Indian/Reunion:20250526T170000
DTSTAMP:20260421T135754
CREATED:20250511T174151Z
LAST-MODIFIED:20250511T174151Z
UID:10000054-1748246400-1748278800@www.ecole-bourbon-parapente.com
SUMMARY:PROGRESSION
DESCRIPTION:
URL:https://www.ecole-bourbon-parapente.com/stage/progression-23/
LOCATION:Colimaçons\, Aire de décollage des parapentes\, Saint-Leu 97436\, La Réunion\, Saint-Leu\, 97436\, Reunion
CATEGORIES:Progression
END:VEVENT
BEGIN:VEVENT
DTSTART;TZID=Indian/Reunion:20250525T080000
DTEND;TZID=Indian/Reunion:20250525T170000
DTSTAMP:20260421T135754
CREATED:20250511T174055Z
LAST-MODIFIED:20250511T174055Z
UID:10000053-1748160000-1748192400@www.ecole-bourbon-parapente.com
SUMMARY:PROGRESSION
DESCRIPTION:
URL:https://www.ecole-bourbon-parapente.com/stage/progression-22/
LOCATION:Colimaçons\, Aire de décollage des parapentes\, Saint-Leu 97436\, La Réunion\, Saint-Leu\, 97436\, Reunion
CATEGORIES:Progression
END:VEVENT
BEGIN:VEVENT
DTSTART;TZID=Indian/Reunion:20250524T080000
DTEND;TZID=Indian/Reunion:20250524T170000
DTSTAMP:20260421T135754
CREATED:20250511T173946Z
LAST-MODIFIED:20250511T173946Z
UID:10000052-1748073600-1748106000@www.ecole-bourbon-parapente.com
SUMMARY:PROGRESSION
DESCRIPTION:
URL:https://www.ecole-bourbon-parapente.com/stage/progression-21/
LOCATION:Colimaçons\, Aire de décollage des parapentes\, Saint-Leu 97436\, La Réunion\, Saint-Leu\, 97436\, Reunion
CATEGORIES:Progression
ORGANIZER;CN="David":MAILTO:bourgeriedavid97436@gmail.com
END:VEVENT
BEGIN:VEVENT
DTSTART;TZID=Indian/Reunion:20250523T080000
DTEND;TZID=Indian/Reunion:20250523T170000
DTSTAMP:20260421T135754
CREATED:20250511T173843Z
LAST-MODIFIED:20250511T173843Z
UID:10000051-1747987200-1748019600@www.ecole-bourbon-parapente.com
SUMMARY:PROGRESSION
DESCRIPTION:
URL:https://www.ecole-bourbon-parapente.com/stage/progression-20/
LOCATION:Colimaçons\, Aire de décollage des parapentes\, Saint-Leu 97436\, La Réunion\, Saint-Leu\, 97436\, Reunion
CATEGORIES:Progression
END:VEVENT
BEGIN:VEVENT
DTSTART;TZID=Indian/Reunion:20250519T080000
DTEND;TZID=Indian/Reunion:20250519T170000
DTSTAMP:20260421T135754
CREATED:20250511T173718Z
LAST-MODIFIED:20250511T173718Z
UID:10000050-1747641600-1747674000@www.ecole-bourbon-parapente.com
SUMMARY:PROGRESSION
DESCRIPTION:
URL:https://www.ecole-bourbon-parapente.com/stage/progression-19/
LOCATION:Colimaçons\, Aire de décollage des parapentes\, Saint-Leu 97436\, La Réunion\, Saint-Leu\, 97436\, Reunion
CATEGORIES:Progression
END:VEVENT
BEGIN:VEVENT
DTSTART;TZID=Indian/Reunion:20250517T080000
DTEND;TZID=Indian/Reunion:20250517T170000
DTSTAMP:20260421T135754
CREATED:20250511T173614Z
LAST-MODIFIED:20250511T173614Z
UID:10000049-1747468800-1747501200@www.ecole-bourbon-parapente.com
SUMMARY:PROGRESSION
DESCRIPTION:
URL:https://www.ecole-bourbon-parapente.com/stage/progression-18/
LOCATION:Colimaçons\, Aire de décollage des parapentes\, Saint-Leu 97436\, La Réunion\, Saint-Leu\, 97436\, Reunion
CATEGORIES:Progression
ORGANIZER;CN="David":MAILTO:bourgeriedavid97436@gmail.com
END:VEVENT
BEGIN:VEVENT
DTSTART;TZID=Indian/Reunion:20250514T080000
DTEND;TZID=Indian/Reunion:20250514T170000
DTSTAMP:20260421T135754
CREATED:20250511T172305Z
LAST-MODIFIED:20250511T172305Z
UID:10000048-1747209600-1747242000@www.ecole-bourbon-parapente.com
SUMMARY:POLE JEUNE
DESCRIPTION:
URL:https://www.ecole-bourbon-parapente.com/stage/pole-jeune-2/
LOCATION:Colimaçons\, Aire de décollage des parapentes\, Saint-Leu 97436\, La Réunion\, Saint-Leu\, 97436\, Reunion
CATEGORIES:Marmays
END:VEVENT
BEGIN:VEVENT
DTSTART;VALUE=DATE:20250513
DTEND;VALUE=DATE:20250514
DTSTAMP:20260421T135754
CREATED:20250511T172225Z
LAST-MODIFIED:20250511T172225Z
UID:10000047-1747094400-1747180799@www.ecole-bourbon-parapente.com
SUMMARY:POLE JEUNE
DESCRIPTION:
URL:https://www.ecole-bourbon-parapente.com/stage/pole-jeune/
LOCATION:Colimaçons\, Aire de décollage des parapentes\, Saint-Leu 97436\, La Réunion\, Saint-Leu\, 97436\, Reunion
CATEGORIES:Marmays
END:VEVENT
BEGIN:VEVENT
DTSTART;TZID=Indian/Reunion:20250511T080000
DTEND;TZID=Indian/Reunion:20250511T170000
DTSTAMP:20260421T135754
CREATED:20250511T164037Z
LAST-MODIFIED:20250511T172710Z
UID:10000046-1746950400-1746982800@www.ecole-bourbon-parapente.com
SUMMARY:PROGRESSION
DESCRIPTION:
URL:https://www.ecole-bourbon-parapente.com/stage/progression-17/
LOCATION:Colimaçons\, Aire de décollage des parapentes\, Saint-Leu 97436\, La Réunion\, Saint-Leu\, 97436\, Reunion
CATEGORIES:Progression
END:VEVENT
BEGIN:VEVENT
DTSTART;TZID=Indian/Reunion:20250330T063000
DTEND;TZID=Indian/Reunion:20250330T170000
DTSTAMP:20260421T135754
CREATED:20250302T072612Z
LAST-MODIFIED:20250302T072612Z
UID:10000041-1743316200-1743354000@www.ecole-bourbon-parapente.com
SUMMARY:STAGE PERF
DESCRIPTION:
URL:https://www.ecole-bourbon-parapente.com/stage/stage-perf-2/
LOCATION:Colimaçons\, Aire de décollage des parapentes\, Saint-Leu 97436\, La Réunion\, Saint-Leu\, 97436\, Reunion
CATEGORIES:Perfectionnement
END:VEVENT
BEGIN:VEVENT
DTSTART;TZID=Indian/Reunion:20250329T063000
DTEND;TZID=Indian/Reunion:20250329T143000
DTSTAMP:20260421T135754
CREATED:20250302T072727Z
LAST-MODIFIED:20250302T072727Z
UID:10000042-1743229800-1743258600@www.ecole-bourbon-parapente.com
SUMMARY:PROGRESSION
DESCRIPTION:
URL:https://www.ecole-bourbon-parapente.com/stage/progression-14/
LOCATION:Colimaçons\, Aire de décollage des parapentes\, Saint-Leu 97436\, La Réunion\, Saint-Leu\, 97436\, Reunion
CATEGORIES:Progression
END:VEVENT
BEGIN:VEVENT
DTSTART;TZID=Indian/Reunion:20250328T063000
DTEND;TZID=Indian/Reunion:20250328T143000
DTSTAMP:20260421T135754
CREATED:20250302T072854Z
LAST-MODIFIED:20250302T072854Z
UID:10000043-1743143400-1743172200@www.ecole-bourbon-parapente.com
SUMMARY:PROGRESSION
DESCRIPTION:
URL:https://www.ecole-bourbon-parapente.com/stage/progression-15/
LOCATION:Colimaçons\, Aire de décollage des parapentes\, Saint-Leu 97436\, La Réunion\, Saint-Leu\, 97436\, Reunion
CATEGORIES:Progression
END:VEVENT
BEGIN:VEVENT
DTSTART;TZID=Indian/Reunion:20250326T063000
DTEND;TZID=Indian/Reunion:20250326T143000
DTSTAMP:20260421T135754
CREATED:20250302T072305Z
LAST-MODIFIED:20250302T072305Z
UID:10000040-1742970600-1742999400@www.ecole-bourbon-parapente.com
SUMMARY:PROGRESSION
DESCRIPTION:
URL:https://www.ecole-bourbon-parapente.com/stage/progression-13/
LOCATION:Colimaçons\, Aire de décollage des parapentes\, Saint-Leu 97436\, La Réunion\, Saint-Leu\, 97436\, Reunion
CATEGORIES:Progression
END:VEVENT
BEGIN:VEVENT
DTSTART;TZID=Indian/Reunion:20250325T063000
DTEND;TZID=Indian/Reunion:20250325T170000
DTSTAMP:20260421T135754
CREATED:20250302T072143Z
LAST-MODIFIED:20250302T072143Z
UID:10000039-1742884200-1742922000@www.ecole-bourbon-parapente.com
SUMMARY:PENTE ECOLE
DESCRIPTION:
URL:https://www.ecole-bourbon-parapente.com/stage/pente-ecole-9/
LOCATION:Colimaçons\, Aire de décollage des parapentes\, Saint-Leu 97436\, La Réunion\, Saint-Leu\, 97436\, Reunion
CATEGORIES:Initiation
ORGANIZER;CN="Pancho":MAILTO:bourbonespaceecole@gmail.com
END:VEVENT
BEGIN:VEVENT
DTSTART;TZID=Indian/Reunion:20250324T080000
DTEND;TZID=Indian/Reunion:20250324T170000
DTSTAMP:20260421T135754
CREATED:20250302T071837Z
LAST-MODIFIED:20250302T071837Z
UID:10000038-1742803200-1742835600@www.ecole-bourbon-parapente.com
SUMMARY:PENTE ECOLE
DESCRIPTION:STAGE INITIATION
URL:https://www.ecole-bourbon-parapente.com/stage/pente-ecole-8/
LOCATION:Colimaçons\, Aire de décollage des parapentes\, Saint-Leu 97436\, La Réunion\, Saint-Leu\, 97436\, Reunion
CATEGORIES:Initiation
END:VEVENT
BEGIN:VEVENT
DTSTART;TZID=Indian/Reunion:20250323T063000
DTEND;TZID=Indian/Reunion:20250323T143000
DTSTAMP:20260421T135754
CREATED:20250302T071639Z
LAST-MODIFIED:20250302T071639Z
UID:10000037-1742711400-1742740200@www.ecole-bourbon-parapente.com
SUMMARY:PROGRESSION
DESCRIPTION:
URL:https://www.ecole-bourbon-parapente.com/stage/progression-12/
LOCATION:Colimaçons\, Aire de décollage des parapentes\, Saint-Leu 97436\, La Réunion\, Saint-Leu\, 97436\, Reunion
CATEGORIES:Progression
ORGANIZER;CN="David":MAILTO:bourgeriedavid97436@gmail.com
END:VEVENT
BEGIN:VEVENT
DTSTART;TZID=Indian/Reunion:20250322T063000
DTEND;TZID=Indian/Reunion:20250322T170000
DTSTAMP:20260421T135754
CREATED:20250302T071529Z
LAST-MODIFIED:20250302T071529Z
UID:10000036-1742625000-1742662800@www.ecole-bourbon-parapente.com
SUMMARY:STAGE PERF
DESCRIPTION:
URL:https://www.ecole-bourbon-parapente.com/stage/stage-perf/
LOCATION:Colimaçons\, Aire de décollage des parapentes\, Saint-Leu 97436\, La Réunion\, Saint-Leu\, 97436\, Reunion
CATEGORIES:Perfectionnement
END:VEVENT
BEGIN:VEVENT
DTSTART;TZID=Indian/Reunion:20250321T063000
DTEND;TZID=Indian/Reunion:20250321T143000
DTSTAMP:20260421T135754
CREATED:20250302T071345Z
LAST-MODIFIED:20250302T071345Z
UID:10000035-1742538600-1742567400@www.ecole-bourbon-parapente.com
SUMMARY:PROGRESSION
DESCRIPTION:
URL:https://www.ecole-bourbon-parapente.com/stage/progression-11/
LOCATION:Colimaçons\, Aire de décollage des parapentes\, Saint-Leu 97436\, La Réunion\, Saint-Leu\, 97436\, Reunion
CATEGORIES:Progression
END:VEVENT
BEGIN:VEVENT
DTSTART;TZID=Indian/Reunion:20250317T063000
DTEND;TZID=Indian/Reunion:20250317T143000
DTSTAMP:20260421T135754
CREATED:20250302T073143Z
LAST-MODIFIED:20250302T073143Z
UID:10000044-1742193000-1742221800@www.ecole-bourbon-parapente.com
SUMMARY:PROGRESSION
DESCRIPTION:
URL:https://www.ecole-bourbon-parapente.com/stage/progression-16/
LOCATION:Colimaçons\, Aire de décollage des parapentes\, Saint-Leu 97436\, La Réunion\, Saint-Leu\, 97436\, Reunion
CATEGORIES:Progression
ORGANIZER;CN="David":MAILTO:bourgeriedavid97436@gmail.com
END:VEVENT
BEGIN:VEVENT
DTSTART;TZID=Indian/Reunion:20250316T063000
DTEND;TZID=Indian/Reunion:20250316T143000
DTSTAMP:20260421T135754
CREATED:20250302T071150Z
LAST-MODIFIED:20250302T071150Z
UID:10000034-1742106600-1742135400@www.ecole-bourbon-parapente.com
SUMMARY:PROGRESSION
DESCRIPTION:
URL:https://www.ecole-bourbon-parapente.com/stage/progression-10/
LOCATION:Colimaçons\, Aire de décollage des parapentes\, Saint-Leu 97436\, La Réunion\, Saint-Leu\, 97436\, Reunion
CATEGORIES:Progression
END:VEVENT
BEGIN:VEVENT
DTSTART;TZID=Indian/Reunion:20250315T063000
DTEND;TZID=Indian/Reunion:20250315T143000
DTSTAMP:20260421T135754
CREATED:20250302T071036Z
LAST-MODIFIED:20250302T071036Z
UID:10000033-1742020200-1742049000@www.ecole-bourbon-parapente.com
SUMMARY:PROGRESSION
DESCRIPTION:
URL:https://www.ecole-bourbon-parapente.com/stage/progression-9/
LOCATION:Colimaçons\, Aire de décollage des parapentes\, Saint-Leu 97436\, La Réunion\, Saint-Leu\, 97436\, Reunion
CATEGORIES:Progression
END:VEVENT
BEGIN:VEVENT
DTSTART;TZID=Indian/Reunion:20250314T063000
DTEND;TZID=Indian/Reunion:20250314T143000
DTSTAMP:20260421T135754
CREATED:20250302T070850Z
LAST-MODIFIED:20250302T070850Z
UID:10000032-1741933800-1741962600@www.ecole-bourbon-parapente.com
SUMMARY:PROGRESSION
DESCRIPTION:
URL:https://www.ecole-bourbon-parapente.com/stage/progression-8/
LOCATION:Colimaçons\, Aire de décollage des parapentes\, Saint-Leu 97436\, La Réunion\, Saint-Leu\, 97436\, Reunion
CATEGORIES:Progression
END:VEVENT
BEGIN:VEVENT
DTSTART;TZID=Indian/Reunion:20250311T063000
DTEND;TZID=Indian/Reunion:20250311T143000
DTSTAMP:20260421T135754
CREATED:20250302T070721Z
LAST-MODIFIED:20250302T070721Z
UID:10000031-1741674600-1741703400@www.ecole-bourbon-parapente.com
SUMMARY:PROGRESSION
DESCRIPTION:PROGRESSION
URL:https://www.ecole-bourbon-parapente.com/stage/progression-7/
LOCATION:Colimaçons\, Aire de décollage des parapentes\, Saint-Leu 97436\, La Réunion\, Saint-Leu\, 97436\, Reunion
CATEGORIES:Progression
END:VEVENT
BEGIN:VEVENT
DTSTART;TZID=Indian/Reunion:20250310T063000
DTEND;TZID=Indian/Reunion:20250310T143000
DTSTAMP:20260421T135754
CREATED:20250302T070553Z
LAST-MODIFIED:20250302T070553Z
UID:10000030-1741588200-1741617000@www.ecole-bourbon-parapente.com
SUMMARY:PENTE ECOLE
DESCRIPTION:STAGE INITIATION
URL:https://www.ecole-bourbon-parapente.com/stage/pente-ecole-7/
LOCATION:Colimaçons\, Aire de décollage des parapentes\, Saint-Leu 97436\, La Réunion\, Saint-Leu\, 97436\, Reunion
CATEGORIES:Initiation
END:VEVENT
BEGIN:VEVENT
DTSTART;TZID=Indian/Reunion:20250309T063000
DTEND;TZID=Indian/Reunion:20250309T140000
DTSTAMP:20260421T135754
CREATED:20250302T070414Z
LAST-MODIFIED:20250302T070414Z
UID:10000029-1741501800-1741528800@www.ecole-bourbon-parapente.com
SUMMARY:PENTE ECOLE
DESCRIPTION:STAGE INITIATION
URL:https://www.ecole-bourbon-parapente.com/stage/pente-ecole-6/
LOCATION:Colimaçons\, Aire de décollage des parapentes\, Saint-Leu 97436\, La Réunion\, Saint-Leu\, 97436\, Reunion
CATEGORIES:Initiation
ORGANIZER;CN="David":MAILTO:bourgeriedavid97436@gmail.com
END:VEVENT
BEGIN:VEVENT
DTSTART;TZID=Indian/Reunion:20250308T063000
DTEND;TZID=Indian/Reunion:20250308T140000
DTSTAMP:20260421T135754
CREATED:20250302T070230Z
LAST-MODIFIED:20250302T070230Z
UID:10000028-1741415400-1741442400@www.ecole-bourbon-parapente.com
SUMMARY:PROGRESSION
DESCRIPTION:
URL:https://www.ecole-bourbon-parapente.com/stage/progression-6/
LOCATION:Colimaçons\, Aire de décollage des parapentes\, Saint-Leu 97436\, La Réunion\, Saint-Leu\, 97436\, Reunion
CATEGORIES:Progression
END:VEVENT
BEGIN:VEVENT
DTSTART;TZID=Indian/Reunion:20250307T063000
DTEND;TZID=Indian/Reunion:20250307T140000
DTSTAMP:20260421T135754
CREATED:20250302T070058Z
LAST-MODIFIED:20250302T070058Z
UID:10000027-1741329000-1741356000@www.ecole-bourbon-parapente.com
SUMMARY:PROGESSION
DESCRIPTION:
URL:https://www.ecole-bourbon-parapente.com/stage/progession/
LOCATION:Colimaçons\, Aire de décollage des parapentes\, Saint-Leu 97436\, La Réunion\, Saint-Leu\, 97436\, Reunion
CATEGORIES:Progression
END:VEVENT
BEGIN:VEVENT
DTSTART;TZID=Indian/Reunion:20250306T063000
DTEND;TZID=Indian/Reunion:20250306T140000
DTSTAMP:20260421T135754
CREATED:20250302T065817Z
LAST-MODIFIED:20250302T065817Z
UID:10000026-1741242600-1741269600@www.ecole-bourbon-parapente.com
SUMMARY:PROGRESSION
DESCRIPTION:
URL:https://www.ecole-bourbon-parapente.com/stage/progression-5/
LOCATION:Colimaçons\, Aire de décollage des parapentes\, Saint-Leu 97436\, La Réunion\, Saint-Leu\, 97436\, Reunion
CATEGORIES:Progression
END:VEVENT
END:VCALENDAR