BEGIN:VCALENDAR
VERSION:2.0
PRODID:-//Ecole de Parapente à La Réunion - ECPv6.10.0//NONSGML v1.0//EN
CALSCALE:GREGORIAN
METHOD:PUBLISH
X-ORIGINAL-URL:https://www.ecole-bourbon-parapente.com
X-WR-CALDESC:Évènements pour Ecole de Parapente à La Réunion
REFRESH-INTERVAL;VALUE=DURATION:PT1H
X-Robots-Tag:noindex
X-PUBLISHED-TTL:PT1H
BEGIN:VTIMEZONE
TZID:Indian/Reunion
BEGIN:STANDARD
TZOFFSETFROM:+0400
TZOFFSETTO:+0400
TZNAME:+04
DTSTART:20240101T000000
END:STANDARD
END:VTIMEZONE
BEGIN:VEVENT
DTSTART;TZID=Indian/Reunion:20250222T063000
DTEND;TZID=Indian/Reunion:20250222T130000
DTSTAMP:20260423T171449
CREATED:20250204T145102Z
LAST-MODIFIED:20250204T145102Z
UID:10000019-1740205800-1740229200@www.ecole-bourbon-parapente.com
SUMMARY:Progression
DESCRIPTION:1er vol et progression \nBriefing \nVols \nDébriefing \nCours théorique
URL:https://www.ecole-bourbon-parapente.com/stage/progression/
LOCATION:Colimaçons\, Aire de décollage des parapentes\, Saint-Leu 97436\, La Réunion\, Saint-Leu\, 97436\, Reunion
CATEGORIES:Progression
ORGANIZER;CN="Pancho":MAILTO:bourbonespaceecole@gmail.com
END:VEVENT
BEGIN:VEVENT
DTSTART;TZID=Indian/Reunion:20250221T063000
DTEND;TZID=Indian/Reunion:20250221T140000
DTSTAMP:20260423T171449
CREATED:20250204T144857Z
LAST-MODIFIED:20250204T144857Z
UID:10000018-1740119400-1740146400@www.ecole-bourbon-parapente.com
SUMMARY:Pente école
DESCRIPTION:2ème 1/2 journée \n1er petit vol en pente école
URL:https://www.ecole-bourbon-parapente.com/stage/pente-ecole-3/
LOCATION:Colimaçons\, Aire de décollage des parapentes\, Saint-Leu 97436\, La Réunion\, Saint-Leu\, 97436\, Reunion
CATEGORIES:Initiation
END:VEVENT
BEGIN:VEVENT
DTSTART;TZID=Indian/Reunion:20250220T063000
DTEND;TZID=Indian/Reunion:20250220T130000
DTSTAMP:20260423T171449
CREATED:20250204T144702Z
LAST-MODIFIED:20250204T144702Z
UID:10000017-1740033000-1740056400@www.ecole-bourbon-parapente.com
SUMMARY:Pente école
DESCRIPTION:1er 1/2 journée \nDécouverte de l’activité
URL:https://www.ecole-bourbon-parapente.com/stage/pente-ecole-2/
LOCATION:Colimaçons\, Aire de décollage des parapentes\, Saint-Leu 97436\, La Réunion\, Saint-Leu\, 97436\, Reunion
CATEGORIES:Initiation
END:VEVENT
BEGIN:VEVENT
DTSTART;TZID=Indian/Reunion:20250218T063000
DTEND;TZID=Indian/Reunion:20250218T130000
DTSTAMP:20260423T171449
CREATED:20250204T144450Z
LAST-MODIFIED:20250204T144450Z
UID:10000016-1739860200-1739883600@www.ecole-bourbon-parapente.com
SUMMARY:Progression 1/2 journée
DESCRIPTION:Briefing \nVols \nDébriefing \nCours théorique
URL:https://www.ecole-bourbon-parapente.com/stage/progression-1-2-journee/
LOCATION:Colimaçons\, Aire de décollage des parapentes\, Saint-Leu 97436\, La Réunion\, Saint-Leu\, 97436\, Reunion
CATEGORIES:Progression
END:VEVENT
BEGIN:VEVENT
DTSTART;TZID=Indian/Reunion:20250217T063000
DTEND;TZID=Indian/Reunion:20250217T130000
DTSTAMP:20260423T171449
CREATED:20250204T144258Z
LAST-MODIFIED:20250204T144258Z
UID:10000015-1739773800-1739797200@www.ecole-bourbon-parapente.com
SUMMARY:Progression et 1er vol
DESCRIPTION:Briefing \nVols \nDébriefing \nCours théorique
URL:https://www.ecole-bourbon-parapente.com/stage/progression-et-1er-vol/
LOCATION:Colimaçons\, Aire de décollage des parapentes\, Saint-Leu 97436\, La Réunion\, Saint-Leu\, 97436\, Reunion
CATEGORIES:Progression
ORGANIZER;CN="Pancho":MAILTO:bourbonespaceecole@gmail.com
END:VEVENT
BEGIN:VEVENT
DTSTART;TZID=Indian/Reunion:20250216T063000
DTEND;TZID=Indian/Reunion:20250216T140000
DTSTAMP:20260423T171449
CREATED:20250204T144039Z
LAST-MODIFIED:20250204T150817Z
UID:10000014-1739687400-1739714400@www.ecole-bourbon-parapente.com
SUMMARY:Pente école 1/2 journée
DESCRIPTION:Découverte des 1er vols de puces
URL:https://www.ecole-bourbon-parapente.com/stage/ente-ecole-1-2-journee/
LOCATION:Colimaçons\, Aire de décollage des parapentes\, Saint-Leu 97436\, La Réunion\, Saint-Leu\, 97436\, Reunion
CATEGORIES:Initiation
END:VEVENT
BEGIN:VEVENT
DTSTART;TZID=Indian/Reunion:20250215T063000
DTEND;TZID=Indian/Reunion:20250215T140000
DTSTAMP:20260423T171449
CREATED:20250204T142643Z
LAST-MODIFIED:20250204T142643Z
UID:10000013-1739601000-1739628000@www.ecole-bourbon-parapente.com
SUMMARY:Pente école 1/2 journée
DESCRIPTION:Découverte de l’activité \n 
URL:https://www.ecole-bourbon-parapente.com/stage/pente-ecole-1-2-journee/
LOCATION:Colimaçons\, Aire de décollage des parapentes\, Saint-Leu 97436\, La Réunion\, Saint-Leu\, 97436\, Reunion
CATEGORIES:Initiation
ORGANIZER;CN="Pancho":MAILTO:bourbonespaceecole@gmail.com
END:VEVENT
BEGIN:VEVENT
DTSTART;TZID=Indian/Reunion:20250214T063000
DTEND;TZID=Indian/Reunion:20250214T130000
DTSTAMP:20260423T171449
CREATED:20250204T142324Z
LAST-MODIFIED:20250204T143829Z
UID:10000012-1739514600-1739538000@www.ecole-bourbon-parapente.com
SUMMARY:1/2 journée progression
DESCRIPTION:Briefing \nVols \nDébriefing \nCours théorique
URL:https://www.ecole-bourbon-parapente.com/stage/1-2-journee-progression-5/
LOCATION:Colimaçons\, Aire de décollage des parapentes\, Saint-Leu 97436\, La Réunion\, Saint-Leu\, 97436\, Reunion
CATEGORIES:Progression
ORGANIZER;CN="David":MAILTO:bourgeriedavid97436@gmail.com
END:VEVENT
BEGIN:VEVENT
DTSTART;TZID=Indian/Reunion:20250209T063000
DTEND;TZID=Indian/Reunion:20250209T130000
DTSTAMP:20260423T171449
CREATED:20250204T142111Z
LAST-MODIFIED:20250204T143731Z
UID:10000011-1739082600-1739106000@www.ecole-bourbon-parapente.com
SUMMARY:1/2 journée progression
DESCRIPTION:1/2 journée progression \nBriefing \nVol \nDébriefing \nCours théorique
URL:https://www.ecole-bourbon-parapente.com/stage/1-2-journee-progression-4/
LOCATION:Colimaçons\, Aire de décollage des parapentes\, Saint-Leu 97436\, La Réunion\, Saint-Leu\, 97436\, Reunion
CATEGORIES:Progression
ORGANIZER;CN="Pancho":MAILTO:bourbonespaceecole@gmail.com
END:VEVENT
BEGIN:VEVENT
DTSTART;TZID=Indian/Reunion:20250208T063000
DTEND;TZID=Indian/Reunion:20250208T130000
DTSTAMP:20260423T171449
CREATED:20250204T141851Z
LAST-MODIFIED:20250204T143348Z
UID:10000010-1738996200-1739019600@www.ecole-bourbon-parapente.com
SUMMARY:1/2 journée progression
DESCRIPTION:Briefing \nVol \nDébriefing \nCours théorique
URL:https://www.ecole-bourbon-parapente.com/stage/1-2-journee-progression-3/
LOCATION:Colimaçons\, Aire de décollage des parapentes\, Saint-Leu 97436\, La Réunion\, Saint-Leu\, 97436\, Reunion
CATEGORIES:Progression
ORGANIZER;CN="David":MAILTO:bourgeriedavid97436@gmail.com
END:VEVENT
BEGIN:VEVENT
DTSTART;TZID=Indian/Reunion:20250207T063000
DTEND;TZID=Indian/Reunion:20250207T130000
DTSTAMP:20260423T171449
CREATED:20250204T141624Z
LAST-MODIFIED:20250204T143646Z
UID:10000009-1738909800-1738933200@www.ecole-bourbon-parapente.com
SUMMARY:1/2 journée progression
DESCRIPTION:Briefing \nVol \nDébrief \nCours théorique
URL:https://www.ecole-bourbon-parapente.com/stage/1-2-journee-progression-2/
LOCATION:Colimaçons\, Aire de décollage des parapentes\, Saint-Leu 97436\, La Réunion\, Saint-Leu\, 97436\, Reunion
CATEGORIES:Progression
END:VEVENT
BEGIN:VEVENT
DTSTART;TZID=Indian/Reunion:20250206T063000
DTEND;TZID=Indian/Reunion:20250206T130000
DTSTAMP:20260423T171449
CREATED:20250204T141357Z
LAST-MODIFIED:20250204T142747Z
UID:10000008-1738823400-1738846800@www.ecole-bourbon-parapente.com
SUMMARY:1/2 journée progression
DESCRIPTION:2 moniteurs \nBriefing \nVol \nDébriefing \nCours théorique
URL:https://www.ecole-bourbon-parapente.com/stage/1-2-journee-progression/
LOCATION:Colimaçons\, Aire de décollage des parapentes\, Saint-Leu 97436\, La Réunion\, Saint-Leu\, 97436\, Reunion
CATEGORIES:Progression
ORGANIZER;CN="Pancho":MAILTO:bourbonespaceecole@gmail.com
END:VEVENT
BEGIN:VEVENT
DTSTART;TZID=Indian/Reunion:20241116T090000
DTEND;TZID=Indian/Reunion:20241116T140000
DTSTAMP:20260423T171449
CREATED:20241115T095218Z
LAST-MODIFIED:20241115T095529Z
UID:10000004-1731747600-1731765600@www.ecole-bourbon-parapente.com
SUMMARY:Stage perf samedi 16 octobre 2024
DESCRIPTION:un petit texte de description de mon stage
URL:https://www.ecole-bourbon-parapente.com/stage/stage-perf-samedi-16-octobre-2024/
LOCATION:Colimaçons\, Aire de décollage des parapentes\, Saint-Leu 97436\, La Réunion\, Saint-Leu\, 97436\, Reunion
CATEGORIES:Perfectionnement
ATTACH;FMTTYPE=image/jpeg:https://www.ecole-bourbon-parapente.com/wp-content/uploads/2024/09/RIVIERE-DES-REMPARTS.jpg
END:VEVENT
BEGIN:VEVENT
DTSTART;TZID=Indian/Reunion:20241020T080000
DTEND;TZID=Indian/Reunion:20241020T170000
DTSTAMP:20260423T171449
CREATED:20240917T041447Z
LAST-MODIFIED:20241009T130344Z
UID:10000003-1729411200-1729443600@www.ecole-bourbon-parapente.com
SUMMARY:6 octobre : journée perf
DESCRIPTION:Un texte complémentaire sur le vol afin de donner plus d’informations aux stagiaires.
URL:https://www.ecole-bourbon-parapente.com/stage/6-octobre-journee-perf/
LOCATION:Colimaçons\, Aire de décollage des parapentes\, Saint-Leu 97436\, La Réunion\, Saint-Leu\, 97436\, Reunion
CATEGORIES:Perfectionnement
ATTACH;FMTTYPE=image/jpeg:https://www.ecole-bourbon-parapente.com/wp-content/uploads/2024/06/bp-stages.jpg
ORGANIZER;CN="Pancho":MAILTO:bourbonespaceecole@gmail.com
END:VEVENT
BEGIN:VEVENT
DTSTART;TZID=Indian/Reunion:20241005T080000
DTEND;TZID=Indian/Reunion:20241005T170000
DTSTAMP:20260423T171449
CREATED:20240917T041331Z
LAST-MODIFIED:20240917T041500Z
UID:10000002-1728115200-1728147600@www.ecole-bourbon-parapente.com
SUMMARY:5 octobre : journée perf
DESCRIPTION:
URL:https://www.ecole-bourbon-parapente.com/stage/5-octobre-journee-perf/
LOCATION:Colimaçons\, Aire de décollage des parapentes\, Saint-Leu 97436\, La Réunion\, Saint-Leu\, 97436\, Reunion
CATEGORIES:Perfectionnement
ATTACH;FMTTYPE=image/jpeg:https://www.ecole-bourbon-parapente.com/wp-content/uploads/2024/09/www.bourbonparapente.com-formati.jpg
ORGANIZER;CN="Pancho":MAILTO:bourbonespaceecole@gmail.com
END:VEVENT
BEGIN:VEVENT
DTSTART;TZID=Indian/Reunion:20240927T080000
DTEND;TZID=Indian/Reunion:20240927T170000
DTSTAMP:20260423T171449
CREATED:20240917T041238Z
LAST-MODIFIED:20240917T041403Z
UID:10000001-1727424000-1727456400@www.ecole-bourbon-parapente.com
SUMMARY:27 Septembre : journée découverte d’autres sites (prérequis BPI)
DESCRIPTION:
URL:https://www.ecole-bourbon-parapente.com/stage/27-septembre-journee-decouverte-dautres-sites-prerequis-bpi/
LOCATION:Colimaçons\, Aire de décollage des parapentes\, Saint-Leu 97436\, La Réunion\, Saint-Leu\, 97436\, Reunion
CATEGORIES:Confirmé
ATTACH;FMTTYPE=image/jpeg:https://www.ecole-bourbon-parapente.com/wp-content/uploads/2024/06/bp-stages.jpg
ORGANIZER;CN="Pancho":MAILTO:bourbonespaceecole@gmail.com
END:VEVENT
END:VCALENDAR